BEGIN:VCALENDAR
VERSION:2.0
PRODID:-//Tirana Business University - ECPv6.15.20//NONSGML v1.0//EN
CALSCALE:GREGORIAN
METHOD:PUBLISH
X-WR-CALNAME:Tirana Business University
X-ORIGINAL-URL:https://tbu.edu.al
X-WR-CALDESC:Events for Tirana Business University
REFRESH-INTERVAL;VALUE=DURATION:PT1H
X-Robots-Tag:noindex
X-PUBLISHED-TTL:PT1H
BEGIN:VTIMEZONE
TZID:UTC
BEGIN:STANDARD
TZOFFSETFROM:+0000
TZOFFSETTO:+0000
TZNAME:UTC
DTSTART:20230101T000000
END:STANDARD
END:VTIMEZONE
BEGIN:VEVENT
DTSTART;TZID=UTC:20250921T180000
DTEND;TZID=UTC:20250921T200000
DTSTAMP:20260421T131655
CREATED:20250916T071104Z
LAST-MODIFIED:20250916T071202Z
UID:26634-1758477600-1758484800@tbu.edu.al
SUMMARY:TEDxTBU - INNOVATION: Mission or Business?
DESCRIPTION:Më 21 Shtator 2025\, Tirana Business University sjell TEDxTBU \nNjë mbrëmje plot ide dhe histori frymëzuese. \nNga strategu i PR-it Alban Bala te fermeri activist Alban Çakalli\, nga autorja Alice Taylor te eksperti i kibernetikës Erjon Hasanaj\, nga arkitekti Gëzim Paçarizi te kirurgu Alfred Aga.\, e lideri i industrive kreative Philip Gilpin\, Jr. skena jonë bashkon zëra që formësojnë të ardhmen. \n\n\n\nPër bileta: +355 69 4747 212 21 shtator. 18:00. Central Hall\, Tirana Business University
URL:https://tbu.edu.al/event/tedxtbu-innovation-mission-or-business/
LOCATION:TBU – Tirana Business University\, 7VJ7+22X\, Rruga Rezervat e Shtetit\, Tiranë\, Tiranë\, 1001\, Albania
ATTACH;FMTTYPE=image/jpeg:https://tbu.edu.al/wp-content/uploads/2025/09/TEDx-TBU-POSTER-3-1.jpg
ORGANIZER;CN="TBU - Tirana Business University":MAILTO:info@tbu.edu.al
END:VEVENT
BEGIN:VEVENT
DTSTART;TZID=UTC:20250616T093000
DTEND;TZID=UTC:20250727T123000
DTSTAMP:20260421T131656
CREATED:20250522T073324Z
LAST-MODIFIED:20250522T073324Z
UID:26286-1750066200-1753619400@tbu.edu.al
SUMMARY:Shkolla Verore “Exploring Skills and Careers – Learn\, Experience\, Decide”
DESCRIPTION:Shkolla Verore “Exploring Skills and Careers – Learn\, Experience\, Decide”\nTirana Business University në bashkëpunim me World Vision Albania \nEja të zbulosh talentin tënd\, të zhvillosh aftësi të reja dhe të marrësh vendime të informuara për të ardhmen tënde! Takohu dhe njihu me miq gjimnazistë nga e gjithë Shqipëria.\nShkolla jonë verore është krijuar për të ndihmuar të rinjtë të kuptojnë më mirë vetveten dhe botën e karrierës përmes: \n\nAktiviteteve praktike\nSesioneve këshilluese\nPunës në grupe interaktive\n\nPeriudha e zhvillimit: 16 – 27 Qershor 2025\nOrari ditor: 09:30 – 12:30\nAfati i fundit për regjistrim: 30 Maj 2025 \nForma e regjistrimit https://docs.google.com/forms/d/1IVHtYfVVZz4bpPIUVDPL6qG4s_gS4cPtE66ux42nrdY/prefill
URL:https://tbu.edu.al/event/shkolla-verore-exploring-skills-and-careers-learn-experience-decide/
LOCATION:TBU – Tirana Business University\, 7VJ7+22X\, Rruga Rezervat e Shtetit\, Tiranë\, Tiranë\, 1001\, Albania
ORGANIZER;CN="TBU - Tirana Business University":MAILTO:info@tbu.edu.al
END:VEVENT
BEGIN:VEVENT
DTSTART;VALUE=DATE:20250210
DTEND;VALUE=DATE:20250322
DTSTAMP:20260421T131656
CREATED:20250113T134351Z
LAST-MODIFIED:20250113T134351Z
UID:25982-1739145600-1742601599@tbu.edu.al
SUMMARY:Sezoni i provimeve semestri I-rë
DESCRIPTION:
URL:https://tbu.edu.al/event/sezoni-i-provimeve-semestri-i-re/
LOCATION:TBU – Tirana Business University\, 7VJ7+22X\, Rruga Rezervat e Shtetit\, Tiranë\, Tiranë\, 1001\, Albania
ORGANIZER;CN="TBU - Tirana Business University":MAILTO:info@tbu.edu.al
END:VEVENT
BEGIN:VEVENT
DTSTART;VALUE=DATE:20250106
DTEND;VALUE=DATE:20250111
DTSTAMP:20260421T131656
CREATED:20250113T134250Z
LAST-MODIFIED:20250113T134250Z
UID:25980-1736121600-1736553599@tbu.edu.al
SUMMARY:Rifillon Mësimi
DESCRIPTION:
URL:https://tbu.edu.al/event/rifillon-mesimi/
LOCATION:TBU – Tirana Business University\, 7VJ7+22X\, Rruga Rezervat e Shtetit\, Tiranë\, Tiranë\, 1001\, Albania
ORGANIZER;CN="TBU - Tirana Business University":MAILTO:info@tbu.edu.al
END:VEVENT
BEGIN:VEVENT
DTSTART;VALUE=DATE:20241208
DTEND;VALUE=DATE:20241209
DTSTAMP:20260421T131656
CREATED:20241204T120657Z
LAST-MODIFIED:20241204T120657Z
UID:25628-1733616000-1733702399@tbu.edu.al
SUMMARY:DITA E RINISE
DESCRIPTION:
URL:https://tbu.edu.al/event/dita-e-rinise/
LOCATION:TBU – Tirana Business University\, 7VJ7+22X\, Rruga Rezervat e Shtetit\, Tiranë\, Tiranë\, 1001\, Albania
ORGANIZER;CN="TBU - Tirana Business University":MAILTO:info@tbu.edu.al
END:VEVENT
BEGIN:VEVENT
DTSTART;TZID=UTC:20241202T000000
DTEND;TZID=UTC:20250106T235900
DTSTAMP:20260421T131656
CREATED:20241204T111452Z
LAST-MODIFIED:20241204T114538Z
UID:25601-1733097600-1736207940@tbu.edu.al
SUMMARY:PROVIMET E NDËRMJETME
DESCRIPTION:
URL:https://tbu.edu.al/event/tirana-business-university-college-kalendari-akademik-dhjetor-2024/
LOCATION:TBU – Tirana Business University\, 7VJ7+22X\, Rruga Rezervat e Shtetit\, Tiranë\, Tiranë\, 1001\, Albania
ORGANIZER;CN="TBU - Tirana Business University":MAILTO:info@tbu.edu.al
END:VEVENT
BEGIN:VEVENT
DTSTART;TZID=UTC:20241126T080000
DTEND;TZID=UTC:20241126T170000
DTSTAMP:20260421T131656
CREATED:20241128T131115Z
LAST-MODIFIED:20241128T131115Z
UID:25557-1732608000-1732640400@tbu.edu.al
SUMMARY:Transform Your Leadership Journey with Dr. Altin Sholla
DESCRIPTION:
URL:https://tbu.edu.al/event/transform-your-leadership-journey-with-dr-altin-sholla/
LOCATION:TBU – Tirana Business University\, 7VJ7+22X\, Rruga Rezervat e Shtetit\, Tiranë\, Tiranë\, 1001\, Albania
CATEGORIES:Free Webinar
ORGANIZER;CN="TBU - Tirana Business University":MAILTO:info@tbu.edu.al
END:VEVENT
BEGIN:VEVENT
DTSTART;VALUE=DATE:20240930
DTEND;VALUE=DATE:20241001
DTSTAMP:20260421T131656
CREATED:20240927T110605Z
LAST-MODIFIED:20240927T110605Z
UID:25319-1727654400-1727740799@tbu.edu.al
SUMMARY:Mbrojtja e Temës së Diplomës
DESCRIPTION:
URL:https://tbu.edu.al/event/mbrojtja-e-temes-se-diplomes/
END:VEVENT
BEGIN:VEVENT
DTSTART;VALUE=DATE:20240816
DTEND;VALUE=DATE:20240831
DTSTAMP:20260421T131656
CREATED:20240704T065716Z
LAST-MODIFIED:20240704T065947Z
UID:24541-1723766400-1725062399@tbu.edu.al
SUMMARY:Kalendari i eventeve Master për vitin 2023-2024
DESCRIPTION:Javë Informuese\n16-30 Gusht\nIntervista për aplikantët e rinj
URL:https://tbu.edu.al/event/kalendari-i-eventeve-master-per-vitin-2023-2024/
LOCATION:TBU – Tirana Business University\, 7VJ7+22X\, Rruga Rezervat e Shtetit\, Tiranë\, Tiranë\, 1001\, Albania
ORGANIZER;CN="TBU - Tirana Business University":MAILTO:info@tbu.edu.al
END:VEVENT
BEGIN:VEVENT
DTSTART;VALUE=DATE:20240816
DTEND;VALUE=DATE:20240831
DTSTAMP:20260421T131656
CREATED:20240704T065612Z
LAST-MODIFIED:20240704T070009Z
UID:24539-1723766400-1725062399@tbu.edu.al
SUMMARY:Kalendari i eventeve Bachelor për vitin 2023-2024
DESCRIPTION:Javë Informuese\n16-30 Gusht\nIntervista për aplikantët e rinj
URL:https://tbu.edu.al/event/kalendari-i-eventeve-bachelor-per-vitin-2023-2024/
LOCATION:TBU – Tirana Business University\, 7VJ7+22X\, Rruga Rezervat e Shtetit\, Tiranë\, Tiranë\, 1001\, Albania
ORGANIZER;CN="TBU - Tirana Business University":MAILTO:info@tbu.edu.al
END:VEVENT
BEGIN:VEVENT
DTSTART;VALUE=DATE:20240619
DTEND;VALUE=DATE:20240620
DTSTAMP:20260421T131656
CREATED:20240618T163112Z
LAST-MODIFIED:20240618T163112Z
UID:24356-1718755200-1718841599@tbu.edu.al
SUMMARY:Technovators & Tomorrow’s Entrepreneurs
DESCRIPTION:
URL:https://tbu.edu.al/event/technovators-tomorrows-entrepreneurs/
LOCATION:TBU – Tirana Business University\, 7VJ7+22X\, Rruga Rezervat e Shtetit\, Tiranë\, Tiranë\, 1001\, Albania
ORGANIZER;CN="TBU - Tirana Business University":MAILTO:info@tbu.edu.al
END:VEVENT
BEGIN:VEVENT
DTSTART;VALUE=DATE:20240618
DTEND;VALUE=DATE:20240629
DTSTAMP:20260421T131656
CREATED:20240618T163007Z
LAST-MODIFIED:20240618T163007Z
UID:24354-1718668800-1719619199@tbu.edu.al
SUMMARY:Leadership and Innovation Summer School
DESCRIPTION:
URL:https://tbu.edu.al/event/leadership-and-innovation-summer-school/
LOCATION:TBU – Tirana Business University\, 7VJ7+22X\, Rruga Rezervat e Shtetit\, Tiranë\, Tiranë\, 1001\, Albania
ORGANIZER;CN="TBU - Tirana Business University":MAILTO:info@tbu.edu.al
END:VEVENT
BEGIN:VEVENT
DTSTART;VALUE=DATE:20240605
DTEND;VALUE=DATE:20240606
DTSTAMP:20260421T131656
CREATED:20240521T231325Z
LAST-MODIFIED:20240521T231325Z
UID:23477-1717545600-1717631999@tbu.edu.al
SUMMARY:Leadership and Inovation Summer School
DESCRIPTION:
URL:https://tbu.edu.al/event/leadership-and-inovation-summer-school/
LOCATION:TBU – Tirana Business University\, 7VJ7+22X\, Rruga Rezervat e Shtetit\, Tiranë\, Tiranë\, 1001\, Albania
ATTACH;FMTTYPE=image/jpeg:https://tbu.edu.al/wp-content/uploads/2024/05/fc3f39b6-7564-4424-9554-51290bef3d41.jpg
ORGANIZER;CN="TBU - Tirana Business University":MAILTO:info@tbu.edu.al
END:VEVENT
END:VCALENDAR